BEGIN:VCALENDAR
VERSION:2.0
PRODID:-//DTU.dk//NONSGML DTU.dk//EN
CALSCALE:GREGORIAN
BEGIN:VEVENT
DTSTART:20250318T174500Z
DTEND:20250318T191500Z
SUMMARY:Foredrag om stenrevs betydning for havmiljøet
X-ALT-DESC;FMTTYPE=text/html:<p><a href='https://www.aqua.dtu.dk/kalenderarkiv/2025/03/foredrag-om-stenrevs-betydning-for-havmiljoeet'>https://www.aqua.dtu.dk/kalenderarkiv/2025/03/foredrag-om-stenrevs-betydning-for-havmiljoeet</a></p>Kom til foredrag, om hvordan stenrev på nordkysten af Sjælland kan være med til at beskytte havmiljøet og give et bedre fiskeri.
URL:https://www.aqua.dtu.dk/kalenderarkiv/2025/03/foredrag-om-stenrevs-betydning-for-havmiljoeet
DTSTAMP:20260422T152500Z
UID:{EC291AAE-4F21-44CE-8ABA-CE8F79F05366}-20250318T174500Z
LOCATION:Øresundsakvariet, Københavns Universitet, Strandpromenaden 5, 3000 Helsingør
END:VEVENT
END:VCALENDAR
